BEGIN:VCALENDAR
VERSION:2.0
PRODID:-//Inspired Minds ECC Consulting Inc. - ECPv6.15.12//NONSGML v1.0//EN
CALSCALE:GREGORIAN
METHOD:PUBLISH
X-ORIGINAL-URL:https://inspiredmindsecc.ca
X-WR-CALDESC:Events for Inspired Minds ECC Consulting Inc.
REFRESH-INTERVAL;VALUE=DURATION:PT1H
X-Robots-Tag:noindex
X-PUBLISHED-TTL:PT1H
BEGIN:VTIMEZONE
TZID:America/Edmonton
BEGIN:DAYLIGHT
TZOFFSETFROM:-0700
TZOFFSETTO:-0600
TZNAME:MDT
DTSTART:20200308T090000
END:DAYLIGHT
BEGIN:STANDARD
TZOFFSETFROM:-0600
TZOFFSETTO:-0700
TZNAME:MST
DTSTART:20201101T080000
END:STANDARD
BEGIN:DAYLIGHT
TZOFFSETFROM:-0700
TZOFFSETTO:-0600
TZNAME:MDT
DTSTART:20210314T090000
END:DAYLIGHT
BEGIN:STANDARD
TZOFFSETFROM:-0600
TZOFFSETTO:-0700
TZNAME:MST
DTSTART:20211107T080000
END:STANDARD
BEGIN:DAYLIGHT
TZOFFSETFROM:-0700
TZOFFSETTO:-0600
TZNAME:MDT
DTSTART:20220313T090000
END:DAYLIGHT
BEGIN:STANDARD
TZOFFSETFROM:-0600
TZOFFSETTO:-0700
TZNAME:MST
DTSTART:20221106T080000
END:STANDARD
END:VTIMEZONE
BEGIN:VEVENT
DTSTART;TZID=America/Edmonton:20210303T190000
DTEND;TZID=America/Edmonton:20210303T210000
DTSTAMP:20260421T075638
CREATED:20201221T051213Z
LAST-MODIFIED:20201221T220458Z
UID:10000146-1614798000-1614805200@inspiredmindsecc.ca
SUMMARY:The Me\, The You\, The We!
DESCRIPTION:Facilitating Social Emotional Learning\nFeelings! Feelings! And more Feelings! The everyday struggles of identifying and understanding big emotions is a tough gig for young children. It’s all so hard! But with the right positive supports and environment\, children can thrive and build those skills required to manage these big emotions. SEL\, Social Emotional Learning\, is all about understanding the self and then understanding others to be a positive member of our community. Let’s get together and learn how we can provide a place of vitality so every child can build the skills needed in SEL!
URL:https://inspiredmindsecc.ca/workshop-events/the-me-the-you-the-we/
LOCATION:Online!\, Alberta\, Canada
CATEGORIES:online training,Positive Behaviors,webinar
ATTACH;FMTTYPE=image/png:https://inspiredmindsecc.ca/wp-content/uploads/2020/12/30.png
ORGANIZER;CN="Inspired Minds ECC":MAILTO:tina@inspiredmindsecc.ca
END:VEVENT
BEGIN:VEVENT
DTSTART;TZID=America/Edmonton:20210311T190000
DTEND;TZID=America/Edmonton:20210311T210000
DTSTAMP:20260421T075638
CREATED:20201221T051834Z
LAST-MODIFIED:20201221T220413Z
UID:10000147-1615489200-1615496400@inspiredmindsecc.ca
SUMMARY:Observing Play with Intention
DESCRIPTION:Enriching Your Emergent Curriculum Approach\nEver take the time to sit back and simply observe children playing? How they engage with each other\, how they interact with materials and the conversations they have\, even by themselves. The curiosity they show when they are exploring something new. The expressions of satisfaction when they are deep in thought in play and when they reach a personal goal. These observations of play tell us so much about the children’s perspective and learning journey\, that we need to write this down and capture it! There are so many discoveries and ‘ah-ha’ moments throughout the day that it’s sometimes difficult for us to figure out what to write down though. So let’s learn together as we discuss strategies of intentional observations and practice how to conduct intentional
URL:https://inspiredmindsecc.ca/workshop-events/observing-play-with-intention/
LOCATION:Online!\, Alberta\, Canada
CATEGORIES:Emergent Cuurriculum,online training,Planning,webinar
ATTACH;FMTTYPE=image/png:https://inspiredmindsecc.ca/wp-content/uploads/2020/12/33.png
ORGANIZER;CN="Inspired Minds ECC":MAILTO:tina@inspiredmindsecc.ca
END:VEVENT
BEGIN:VEVENT
DTSTART;TZID=America/Edmonton:20210318T190000
DTEND;TZID=America/Edmonton:20210318T210000
DTSTAMP:20260421T075638
CREATED:20201221T052219Z
LAST-MODIFIED:20201221T220326Z
UID:10000148-1616094000-1616101200@inspiredmindsecc.ca
SUMMARY:Playful Planning
DESCRIPTION:Enriching Your Emergent Curriculum Approach\nPlayful learning experiences promote a sense of curiosity\, exploration\, and confidence\, which are what we all strive to achieve when we plan for our early childhood environment and our children’s experiences. To achieve this\, one of the most popular and best approaches is the emergent curriculum approach. This approach let’s the child lead the playful experiences and follow their own learning path. Our job\, as early childhood educators\, is to observe their interests and plan to extend on these interests. Being intentional on how we prepare the environment for these extensions is a key element to emergent planning. Join me as we discuss planning strategies that work for everyone. There is no ‘one size fits all’ when it comes to planning for children’s play\, so let’s explore what your journey is with the children and how you can plan for play!
URL:https://inspiredmindsecc.ca/workshop-events/playful-planning/
LOCATION:Online!\, Alberta\, Canada
CATEGORIES:Curriculum Planning,Emergent Cuurriculum,online training,webinar
ATTACH;FMTTYPE=image/png:https://inspiredmindsecc.ca/wp-content/uploads/2020/12/36.png
ORGANIZER;CN="Inspired Minds ECC":MAILTO:tina@inspiredmindsecc.ca
END:VEVENT
BEGIN:VEVENT
DTSTART;TZID=America/Edmonton:20210324T190000
DTEND;TZID=America/Edmonton:20210324T210000
DTSTAMP:20260421T075638
CREATED:20201221T053257Z
LAST-MODIFIED:20201221T220242Z
UID:10000150-1616612400-1616619600@inspiredmindsecc.ca
SUMMARY:Inspiring Curiosity to Play! OSC Training!
DESCRIPTION:Creating Provocations to Play\nHow do we create an environment that extends on children’s natural curiosity and interests in the classroom? How can we introduce new ideas\, based on our observations and our understanding of possibilities for children? What activities can we do that promote play? Rooted in the emergent curriculum approach\, setting up provocations and invitations are a part of how we can create an environment that stimulates curiosity\, exploration and encourage independent thinking. Instead of providing activities that focus on a specific outcomes or learning skills\,  or are an extension of school topics\, we provide provocations to stimulate a wholistic approach to playful learning. In doing so\, we are able to be responsive to the children’s interests\, extend their learning and inspire curiosity to explore. Learn how to showcase these amazing displays to stimulate and build upon your children’s interests and sense of wonder. \nThis session focuses on facilitating play with school age children in out of school care programs.
URL:https://inspiredmindsecc.ca/workshop-events/inspiring-curiosity-to-play-osc-training/
LOCATION:Online!\, Alberta\, Canada
CATEGORIES:Emergent Cuurriculum,online training,Planning,Play Spaces,webinar
ATTACH;FMTTYPE=image/png:https://inspiredmindsecc.ca/wp-content/uploads/2020/12/42.png
ORGANIZER;CN="Inspired Minds ECC":MAILTO:tina@inspiredmindsecc.ca
END:VEVENT
BEGIN:VEVENT
DTSTART;TZID=America/Edmonton:20210325T190000
DTEND;TZID=America/Edmonton:20210325T210000
DTSTAMP:20260421T075638
CREATED:20201221T052641Z
LAST-MODIFIED:20201221T220158Z
UID:10000149-1616698800-1616706000@inspiredmindsecc.ca
SUMMARY:Reflections of Playful Learning
DESCRIPTION:Enriching Your Emergent Curriculum Approach\nAfter a full day of play\, everyone is exhausted! Oh\, but what fun we had! What learning transpired! It was a success! Before we forget of all the adventures and discoveries\, it’s time to reflect. Reflection is a main factor when enriching your emergent curriculum approach. Reflection has many facets\, and looks different for each educator and each group of children. In this session\, we will look at the many different ways to reflect on playful learning; from documentation boards and learning stories to brainstorming for future experiences and revamping our environment. Personal reflection\, team reflection and reflection with the children are all elements of this process. It’s time to capture the moments of play an joy in early childhood!
URL:https://inspiredmindsecc.ca/workshop-events/reflections-of-playful-learning/
LOCATION:Online!\, Alberta\, Canada
CATEGORIES:Curriculum Planning,Emergent Cuurriculum,online training,webinar
ATTACH;FMTTYPE=image/png:https://inspiredmindsecc.ca/wp-content/uploads/2020/12/39.png
ORGANIZER;CN="Inspired Minds ECC":MAILTO:tina@inspiredmindsecc.ca
END:VEVENT
BEGIN:VEVENT
DTSTART;TZID=America/Edmonton:20210330T190000
DTEND;TZID=America/Edmonton:20210330T210000
DTSTAMP:20260421T075638
CREATED:20201221T053717Z
LAST-MODIFIED:20210329T224740Z
UID:10000244-1617130800-1617138000@inspiredmindsecc.ca
SUMMARY:Wonderful World of STEM
DESCRIPTION:Exploration and Discovery Through STEM\, STEAM & STREAM\nSTEM – Science\, Technology\, engineering and Math; STEAM – Science\, Technology\, Engineering\, Arts and Math; STREAM – Science\, Technology\, Reading\, Engineering\, Arts and Math. No matter which acronym you use\, STEM activities are bound to be a hit with children as they encourage problem solving\, exploration\, creativity\, discovery\, trial and error and collaboration! Children are naturally curious and want to try things out to see what happens. So\, it’s up to us to provide these rich\, playful learning opportunities to build on this natural instinct to explore and learn. Let them take the reigns on these activities as we take a step back and move away from teacher demonstrations to child led explorations!
URL:https://inspiredmindsecc.ca/workshop-events/wonderful-world-of-stem/
LOCATION:Online!\, Alberta\, Canada
CATEGORIES:online training,STEM,webinar
ATTACH;FMTTYPE=image/png:https://inspiredmindsecc.ca/wp-content/uploads/2020/12/45.png
ORGANIZER;CN="Inspired Minds ECC":MAILTO:tina@inspiredmindsecc.ca
END:VEVENT
END:VCALENDAR