BEGIN:VCALENDAR
VERSION:2.0
PRODID:-//Inspired Minds ECC Consulting Inc. - ECPv6.15.12//NONSGML v1.0//EN
CALSCALE:GREGORIAN
METHOD:PUBLISH
X-WR-CALNAME:Inspired Minds ECC Consulting Inc.
X-ORIGINAL-URL:https://inspiredmindsecc.ca
X-WR-CALDESC:Events for Inspired Minds ECC Consulting Inc.
REFRESH-INTERVAL;VALUE=DURATION:PT1H
X-Robots-Tag:noindex
X-PUBLISHED-TTL:PT1H
BEGIN:VTIMEZONE
TZID:America/Edmonton
BEGIN:DAYLIGHT
TZOFFSETFROM:-0700
TZOFFSETTO:-0600
TZNAME:MDT
DTSTART:20190310T090000
END:DAYLIGHT
BEGIN:STANDARD
TZOFFSETFROM:-0600
TZOFFSETTO:-0700
TZNAME:MST
DTSTART:20191103T080000
END:STANDARD
BEGIN:DAYLIGHT
TZOFFSETFROM:-0700
TZOFFSETTO:-0600
TZNAME:MDT
DTSTART:20200308T090000
END:DAYLIGHT
BEGIN:STANDARD
TZOFFSETFROM:-0600
TZOFFSETTO:-0700
TZNAME:MST
DTSTART:20201101T080000
END:STANDARD
BEGIN:DAYLIGHT
TZOFFSETFROM:-0700
TZOFFSETTO:-0600
TZNAME:MDT
DTSTART:20210314T090000
END:DAYLIGHT
BEGIN:STANDARD
TZOFFSETFROM:-0600
TZOFFSETTO:-0700
TZNAME:MST
DTSTART:20211107T080000
END:STANDARD
END:VTIMEZONE
BEGIN:VEVENT
DTSTART;TZID=America/Edmonton:20200604T183000
DTEND;TZID=America/Edmonton:20200604T200000
DTSTAMP:20260422T043825
CREATED:20191128T002024Z
LAST-MODIFIED:20200417T163853Z
UID:10000222-1591295400-1591300800@inspiredmindsecc.ca
SUMMARY:Online Webinar!  Ooey Gooey Messy Fun!
DESCRIPTION:Ooey Gooey Messy Fun! Designing Sensational Sensory Stations\nLearning through the senses is exactly what children need to explore the world around them.  So\, let’s respond to these needs and get messy with Ooey gooey sensory stations! This workshop will give participants hands on opportunities to explore a variety of sensory stations for all ages and stages.  In addition to these fun activities\, we will also cover why it’s so important to have multiple sensory play experiences for children and how it enhances their learning and development. We will cover the main five senses as well as the additional two senses that aren’t as commonly known but are equally important to children’s sensory experiences.  So\, roll up your sleeves and let the messy play begin!
URL:https://inspiredmindsecc.ca/workshop-events/ooey-gooey-messy-fun/
CATEGORIES:Brain Development,Community Workshop
ATTACH;FMTTYPE=image/png:https://inspiredmindsecc.ca/wp-content/uploads/2019/07/sensory-website.png
END:VEVENT
BEGIN:VEVENT
DTSTART;TZID=America/Edmonton:20200610T183000
DTEND;TZID=America/Edmonton:20200610T200000
DTSTAMP:20260422T043825
CREATED:20191128T002850Z
LAST-MODIFIED:20200417T163951Z
UID:10000223-1591813800-1591819200@inspiredmindsecc.ca
SUMMARY:ONLINE WEBINAR: Laughter and Learning with ABCs!
DESCRIPTION:Laughter and Learning with ABCs! Planning Exciting & Engaging Language and Literacy Activities\nDo you sing the ABC Rock and Roll song? Have you read the story\, Chicka Chicka Boom Boom Boom? Do you have natural letter blocks? These are great tools for children for learning language and literacy skills and there’s way more out there for them!  Letter and Literacy are everywhere in a child’s world! From street signs\, to labels on food to songs\, to our communication with children.  Children are constantly exposed to a world rich of robust language and literacy.  So\, how can we support this natural learning environment with intentionality and play with children? Let’s explore together! This workshop throws away those worksheets\, flashcards and tracing pages to really focus on the natural process that children learn language and literacy – through fun\, hands-on activities! Find out developmentally and age appropriate activities to spark children’s interest in the process of language and literacy learning. Let’s play\, read\, sing and learn together!
URL:https://inspiredmindsecc.ca/workshop-events/laughter-and-learning-with-abcs/
CATEGORIES:Community Workshop
ATTACH;FMTTYPE=image/png:https://inspiredmindsecc.ca/wp-content/uploads/2019/12/literacy.png
END:VEVENT
END:VCALENDAR