BEGIN:VCALENDAR
VERSION:2.0
PRODID:-//Inspired Minds ECC Consulting Inc. - ECPv6.15.12//NONSGML v1.0//EN
CALSCALE:GREGORIAN
METHOD:PUBLISH
X-ORIGINAL-URL:https://inspiredmindsecc.ca
X-WR-CALDESC:Events for Inspired Minds ECC Consulting Inc.
REFRESH-INTERVAL;VALUE=DURATION:PT1H
X-Robots-Tag:noindex
X-PUBLISHED-TTL:PT1H
BEGIN:VTIMEZONE
TZID:America/Edmonton
BEGIN:DAYLIGHT
TZOFFSETFROM:-0700
TZOFFSETTO:-0600
TZNAME:MDT
DTSTART:20190310T090000
END:DAYLIGHT
BEGIN:STANDARD
TZOFFSETFROM:-0600
TZOFFSETTO:-0700
TZNAME:MST
DTSTART:20191103T080000
END:STANDARD
BEGIN:DAYLIGHT
TZOFFSETFROM:-0700
TZOFFSETTO:-0600
TZNAME:MDT
DTSTART:20200308T090000
END:DAYLIGHT
BEGIN:STANDARD
TZOFFSETFROM:-0600
TZOFFSETTO:-0700
TZNAME:MST
DTSTART:20201101T080000
END:STANDARD
BEGIN:DAYLIGHT
TZOFFSETFROM:-0700
TZOFFSETTO:-0600
TZNAME:MDT
DTSTART:20210314T090000
END:DAYLIGHT
BEGIN:STANDARD
TZOFFSETFROM:-0600
TZOFFSETTO:-0700
TZNAME:MST
DTSTART:20211107T080000
END:STANDARD
END:VTIMEZONE
BEGIN:VEVENT
DTSTART;TZID=America/Edmonton:20200408T183000
DTEND;TZID=America/Edmonton:20200408T200000
DTSTAMP:20260422T092923
CREATED:20191127T232307Z
LAST-MODIFIED:20200316T173903Z
UID:10000218-1586370600-1586376000@inspiredmindsecc.ca
SUMMARY:ONLINE WEBINAR~ Building Stronger Teams Together!
DESCRIPTION:Building Stronger Teams Together:\nEffective Team Communication in Early Childcare (1.5 hours)\nJoin us for a session of fun\, learning and team building activities that help us to build stronger teams together. This session includes strategies and activities that will encourage you and your colleagues to work together\, learn about your own communication behaviors\, communication style and how to overcome obstacles and effectively resolve conflicts in order to move your team forward. Effective communication and working together as a team are the foundations to providing a quality early childhood environment that is fun for everyone!
URL:https://inspiredmindsecc.ca/workshop-events/building-stronger-teams-together-3-hours/
CATEGORIES:Community Workshop,Team Building and Team Communication
ATTACH;FMTTYPE=image/png:https://inspiredmindsecc.ca/wp-content/uploads/2019/11/team-website.png
END:VEVENT
BEGIN:VEVENT
DTSTART;TZID=America/Edmonton:20200409T183000
DTEND;TZID=America/Edmonton:20200409T200000
DTSTAMP:20260422T092923
CREATED:20191127T231431Z
LAST-MODIFIED:20200316T174518Z
UID:10000217-1586457000-1586462400@inspiredmindsecc.ca
SUMMARY:ONLINE WEBINAR ~ I Like to Move It! Move It!
DESCRIPTION:I Like to Move it! Move it! Enhancing Physical Literacy in the Classroom\n1.5 hours\nJump! Run! Stop! Crawl! Go! Children are definitely busy bodies and need a variety of activities to keep their bodies and minds healthy. In this workshop\, participants will review what physical literacy means\, skills we can promote through active play and learn practical and fun ways to implement these activities into their daily classroom routines. Come with a water bottle as we will all want to try out these activities ourselves!
URL:https://inspiredmindsecc.ca/workshop-events/i-like-to-move-it-move-it-2/
CATEGORIES:Community Workshop,Music and Movement
ATTACH;FMTTYPE=image/png:https://inspiredmindsecc.ca/wp-content/uploads/2019/07/Physical-website.png
END:VEVENT
BEGIN:VEVENT
DTSTART;TZID=America/Edmonton:20200416T183000
DTEND;TZID=America/Edmonton:20200416T200000
DTSTAMP:20260422T092923
CREATED:20191127T230716Z
LAST-MODIFIED:20200414T161131Z
UID:10000216-1587061800-1587067200@inspiredmindsecc.ca
SUMMARY:ONLINE WEBINAR ~ Tinkering and Toying with STEM!
DESCRIPTION:Tinkering and Toying with STEM:\nEngaging Activities to Support Science\, Technology\, Engineering and Math with Young Children (1.5hrs)\nBoing! Tink! Rumble! Roll!  These are the sounds of engineers and designers in the making!  But where can we start to promote and support these creative minds?  Through STEM!  Supporting children on their journey of investigation\, predicting and exploring can be a daunting task or a great way to spice up your early childhood classroom!  Put on your thinking cap as we discover\, tinker and toy with different ways to promote intellectual thinking with young children through hands-on and engaging activities! Let’s follow the children’s natural interests\, sense of wonder and curiosity as they put on their thinking caps with these amazing science\, technology\, engineering and math activities designed specifically with them in mind!  Let your creative mind flow as we build on our own ideas\, abilities and materials that support these young thinkers.
URL:https://inspiredmindsecc.ca/workshop-events/tinkering-and-toying-with-stem/
CATEGORIES:Community Workshop,STEM
ATTACH;FMTTYPE=image/png:https://inspiredmindsecc.ca/wp-content/uploads/2019/07/stem2-website.png
END:VEVENT
BEGIN:VEVENT
DTSTART;TZID=America/Edmonton:20200423T183000
DTEND;TZID=America/Edmonton:20200423T200000
DTSTAMP:20260422T092923
CREATED:20191127T232604Z
LAST-MODIFIED:20200414T013717Z
UID:10000219-1587666600-1587672000@inspiredmindsecc.ca
SUMMARY:ONLINE WEBINAR ~ Rocks and Sticks and Wonderful Things!
DESCRIPTION:Rocks and Sticks and Wonderful Things:\nCreative Outdoor Play Experiences for Young Children (1.5 hrs)\nIt’s time to go back to our ‘roots’ and get outside to discover the wonders and adventures that the great outdoors has for us! Outdoor play and nature play give children an opportunity to learn in ways that develop their minds and bodies. This workshop will give you some great ideas of how to promote these wonderful learning experiences for children in creative and simple ways! Whether its bark rubbing\, freezing bubbles or hopping and jumping through mud puddles – every child deserves a chance to freely express themselves and connect with nature.
URL:https://inspiredmindsecc.ca/workshop-events/rocks-and-sticks-and-wonderful-things/
CATEGORIES:Community Workshop,Outdoor Play
ATTACH;FMTTYPE=image/png:https://inspiredmindsecc.ca/wp-content/uploads/2019/07/outdoor-play-website.png
END:VEVENT
END:VCALENDAR