BEGIN:VCALENDAR
VERSION:2.0
PRODID:-//Inspired Minds ECC Consulting Inc. - ECPv6.15.12//NONSGML v1.0//EN
CALSCALE:GREGORIAN
METHOD:PUBLISH
X-WR-CALNAME:Inspired Minds ECC Consulting Inc.
X-ORIGINAL-URL:https://inspiredmindsecc.ca
X-WR-CALDESC:Events for Inspired Minds ECC Consulting Inc.
REFRESH-INTERVAL;VALUE=DURATION:PT1H
X-Robots-Tag:noindex
X-PUBLISHED-TTL:PT1H
BEGIN:VTIMEZONE
TZID:America/Edmonton
BEGIN:DAYLIGHT
TZOFFSETFROM:-0700
TZOFFSETTO:-0600
TZNAME:MDT
DTSTART:20190310T090000
END:DAYLIGHT
BEGIN:STANDARD
TZOFFSETFROM:-0600
TZOFFSETTO:-0700
TZNAME:MST
DTSTART:20191103T080000
END:STANDARD
BEGIN:DAYLIGHT
TZOFFSETFROM:-0700
TZOFFSETTO:-0600
TZNAME:MDT
DTSTART:20200308T090000
END:DAYLIGHT
BEGIN:STANDARD
TZOFFSETFROM:-0600
TZOFFSETTO:-0700
TZNAME:MST
DTSTART:20201101T080000
END:STANDARD
BEGIN:DAYLIGHT
TZOFFSETFROM:-0700
TZOFFSETTO:-0600
TZNAME:MDT
DTSTART:20210314T090000
END:DAYLIGHT
BEGIN:STANDARD
TZOFFSETFROM:-0600
TZOFFSETTO:-0700
TZNAME:MST
DTSTART:20211107T080000
END:STANDARD
END:VTIMEZONE
BEGIN:VEVENT
DTSTART;TZID=America/Edmonton:20200212T183000
DTEND;TZID=America/Edmonton:20200212T203000
DTSTAMP:20260422T211538
CREATED:20191127T191051Z
LAST-MODIFIED:20191202T194755Z
UID:10000206-1581532200-1581539400@inspiredmindsecc.ca
SUMMARY:The More We Get Together!
DESCRIPTION:Inclusive Care for Children with all Abilities\nInclusive care isn’t something we add to our classrooms – it IS our classrooms! Every day we ensure that our environments and activities are responsive to the needs\, interests and abilities of all the children in our care. But how do we know this?  How can we ensure our classrooms are inclusive? In this workshop\, we will explore the answers to these questions and many more. Let’s take a look at what are the unique needs of children with special needs and some approaches we can take to best support children with special needs and their families. We will also learn a variety of ways we can adapt activities to meet the need and abilities of every child in our care. Let’ look at our classroom with a new perspective – through the eyes of children with diverse needs!
URL:https://inspiredmindsecc.ca/workshop-events/the-more-we-get-together/
LOCATION:Global Aware Kids Care\, 109\, 1103 95 Street SW\, Edmonton\, Alberta\, T6X 0P8\, Canada
CATEGORIES:Community Workshop
ATTACH;FMTTYPE=image/png:https://inspiredmindsecc.ca/wp-content/uploads/2019/07/inclusive-website.png
END:VEVENT
BEGIN:VEVENT
DTSTART;TZID=America/Edmonton:20200213T183000
DTEND;TZID=America/Edmonton:20200213T203000
DTSTAMP:20260422T211538
CREATED:20191127T185914Z
LAST-MODIFIED:20191202T195955Z
UID:10000205-1581618600-1581625800@inspiredmindsecc.ca
SUMMARY:No Waiting! Get Them Shaking!
DESCRIPTION:Learning Effective Transition Strategies\nOh\, those lovely transition times…where chaos seems to reign\, and things get a little crazy!  But this doesn’t have to be the case if we learn how to provide effective transitions! Children are not able to sit and wait…or line up perfectly-every time…so why not make it fun for them and a smoother transition for you as well!  Participants will identify the 3 core concepts behind effective transitions and practical ideas and activities to support each concept: Plan it – Provide Warnings – and Engage! We will touch on everything from visual daily routine schedules to fun transitional activities. This session is sure to increase your library of transitional strategies that will smooth that chaos and stress and turn it into an enjoyable part of your day. Get ready to shake\, sing and be innovative as we brainstorm fun transitional activities that will inspire you and the children in your program.
URL:https://inspiredmindsecc.ca/workshop-events/no-waiting-get-them-shaking-2/
LOCATION:Kidzone Daycare\, 15277 Castle Downs Road\, Edmonton\, Alberta\, Canada
CATEGORIES:Community Workshop,Transitions
ATTACH;FMTTYPE=image/png:https://inspiredmindsecc.ca/wp-content/uploads/2019/07/transitions-website.png
END:VEVENT
BEGIN:VEVENT
DTSTART;TZID=America/Edmonton:20200218T180000
DTEND;TZID=America/Edmonton:20200218T210000
DTSTAMP:20260422T211538
CREATED:20191127T201014Z
LAST-MODIFIED:20191202T200230Z
UID:10000209-1582048800-1582059600@inspiredmindsecc.ca
SUMMARY:Know No No's! 3 Hour Overview
DESCRIPTION:Supporting Children with Difficult and Challenging Behaviours Using Positive Guidance Strategies – 3 hour overview\nExpressions and difficult behaviours of young children can baffle us sometimes when we struggle to understand them. The key to remember is that all behaviour is a form of communication…we just have to figure out what they are trying to say! Which is sometimes easier said than done. This introduction session to positive guidance strategies is an interactive and informative workshop about why children engage in challenging and difficult behaviours and how we can get to the core of this style of communication. Understanding each child and being pro-active in our approach to guiding behaviours will help keep a calm and encouraging environment for young minds to explore and learn. We will identify the communication behind the behaviours\, how to build resiliency\, activities to promote self-awareness and self-regulation\, activities to build positive social skills and what to do when the big emotions overwhelm the children.  Learn some practical strategies that can help you and the children in your room. Our goal is not to fix the behaviour but to support the child in learning more positive ways to communicate their needs\, wants and ideas through positive behaviours.
URL:https://inspiredmindsecc.ca/workshop-events/know-no-nos-3-hour-overview/
LOCATION:An Enchanted Forest Daycare\, 500 Rivercrest Crescent\, St. Albert\, Alberta\, Canada
CATEGORIES:Community Workshop,Positive Behaviors
ATTACH;FMTTYPE=image/png:https://inspiredmindsecc.ca/wp-content/uploads/2019/07/guidance-website.png
END:VEVENT
BEGIN:VEVENT
DTSTART;TZID=America/Edmonton:20200219T183000
DTEND;TZID=America/Edmonton:20200219T203000
DTSTAMP:20260422T211538
CREATED:20191127T200349Z
LAST-MODIFIED:20191202T200300Z
UID:10000208-1582137000-1582144200@inspiredmindsecc.ca
SUMMARY:Where the Wild Things Are!
DESCRIPTION:Providing Effective Active Supervision\nImplementing effective active supervision is vital to providing a safe environment for children to explore and learn.  By identifying the key principles of effective active supervision and learning some active supervision strategies\, your team will be able to minimize accidents and incidents and be able to focus on the children’s play experiences.  Participants will learn some tips and tricks to ensuring that they are actively supervising their classroom and that children’s play is fun\, safe and full of discoveries and adventures.
URL:https://inspiredmindsecc.ca/workshop-events/where-the-wild-things-are-2/
LOCATION:Global Aware Children’s Care\, 9333 199 St NW\, Edmonton\, Alberta\, Canada
CATEGORIES:Community Workshop,Supervision
ATTACH;FMTTYPE=image/png:https://inspiredmindsecc.ca/wp-content/uploads/2019/07/supervision-website.png
END:VEVENT
BEGIN:VEVENT
DTSTART;TZID=America/Edmonton:20200227T183000
DTEND;TZID=America/Edmonton:20200227T203000
DTSTAMP:20260422T211538
CREATED:20191127T195826Z
LAST-MODIFIED:20191202T200354Z
UID:10000207-1582828200-1582835400@inspiredmindsecc.ca
SUMMARY:Build it Up!
DESCRIPTION:Designing Creative Block Spaces\nLet’s Build! Children express their creativity and their perspective of the world around them in a variety of ways. One of the most popular play areas for this creative expression is in the block centre. In this play space\, children become engineers\, architects\, urban planners\, designers and more! Participants will learn the fundamental elements of a high-quality block area along with some fantastic activities ideas that can really challenge the young mind. Block play is for all ages and all stages – a place for every child to construct and put their ideas into a visual form. Have you ever tried adding socks or rolls of tape to this center? Help children develop social-emotional\, physical\, imaginative and cognitive skills as they explore this amazing play space in your classroom. This workshop will inspire the architect and engineer in all of us!
URL:https://inspiredmindsecc.ca/workshop-events/build-it-up/
LOCATION:Minchau Child Care Centre\, 4438 36 Ave NW\, Edmonton\, Alberta\, Canada
CATEGORIES:Community Workshop
ATTACH;FMTTYPE=image/png:https://inspiredmindsecc.ca/wp-content/uploads/2019/12/build-it-up.png
END:VEVENT
END:VCALENDAR