BEGIN:VCALENDAR
VERSION:2.0
PRODID:-//Inspired Minds ECC Consulting Inc. - ECPv6.15.12//NONSGML v1.0//EN
CALSCALE:GREGORIAN
METHOD:PUBLISH
X-WR-CALNAME:Inspired Minds ECC Consulting Inc.
X-ORIGINAL-URL:https://inspiredmindsecc.ca
X-WR-CALDESC:Events for Inspired Minds ECC Consulting Inc.
REFRESH-INTERVAL;VALUE=DURATION:PT1H
X-Robots-Tag:noindex
X-PUBLISHED-TTL:PT1H
BEGIN:VTIMEZONE
TZID:America/Edmonton
BEGIN:DAYLIGHT
TZOFFSETFROM:-0700
TZOFFSETTO:-0600
TZNAME:MDT
DTSTART:20200308T090000
END:DAYLIGHT
BEGIN:STANDARD
TZOFFSETFROM:-0600
TZOFFSETTO:-0700
TZNAME:MST
DTSTART:20201101T080000
END:STANDARD
BEGIN:DAYLIGHT
TZOFFSETFROM:-0700
TZOFFSETTO:-0600
TZNAME:MDT
DTSTART:20210314T090000
END:DAYLIGHT
BEGIN:STANDARD
TZOFFSETFROM:-0600
TZOFFSETTO:-0700
TZNAME:MST
DTSTART:20211107T080000
END:STANDARD
BEGIN:DAYLIGHT
TZOFFSETFROM:-0700
TZOFFSETTO:-0600
TZNAME:MDT
DTSTART:20220313T090000
END:DAYLIGHT
BEGIN:STANDARD
TZOFFSETFROM:-0600
TZOFFSETTO:-0700
TZNAME:MST
DTSTART:20221106T080000
END:STANDARD
END:VTIMEZONE
BEGIN:VEVENT
DTSTART;TZID=America/Edmonton:20210203T190000
DTEND;TZID=America/Edmonton:20210203T210000
DTSTAMP:20260425T221726
CREATED:20201221T025130Z
LAST-MODIFIED:20201221T220815Z
UID:10000141-1612378800-1612386000@inspiredmindsecc.ca
SUMMARY:Caring Connections
DESCRIPTION:Interactions that Matter!\nThe comfort of an encouraging smile. The caring reassurance after a fight with a friend. The excitement of co-celebration as they discovery a new skill. How we interact with children has a huge impact on children’s growth and development\, not only their social emotional development\, but also in their abilities to problem solve\, resolve conflict\, and take risk because they feel safe! Children rely on positive\, supportive and encouraging adults in their live to show them they are respected\, safe and loved. This type of interaction doesn’t happen just by supervising\, asking questions or giving direction. It comes from a deep connection between the adult and the child. A connection that takes time to build and takes intentional interactions. Let’s learn some strategies of how to build this connection with ALL children – from the ones we struggle with to the ones who love us the moment they come through our doors.  Understanding what each child needs to feel a connection will help us establish that bond with each child and continue to see that relationship blossom. Connection is key!
URL:https://inspiredmindsecc.ca/workshop-events/caring-connections/
LOCATION:Online!\, Alberta\, Canada
CATEGORIES:Interactions,online training,Transitions
ATTACH;FMTTYPE=image/png:https://inspiredmindsecc.ca/wp-content/uploads/2020/12/15.png
ORGANIZER;CN="Inspired Minds ECC":MAILTO:tina@inspiredmindsecc.ca
END:VEVENT
BEGIN:VEVENT
DTSTART;TZID=America/Edmonton:20210211T190000
DTEND;TZID=America/Edmonton:20210211T210000
DTSTAMP:20260425T221726
CREATED:20201221T030906Z
LAST-MODIFIED:20201221T220738Z
UID:10000142-1613070000-1613077200@inspiredmindsecc.ca
SUMMARY:Mighty Transitions
DESCRIPTION:Discovering Transitions that Work!\nOh those transitions! From here to there and back again. They could be a time of chaos or a time of calm – which one do we plan for?! That’s right! Transitions can be calm\, fun and effective if we intentionally plan for them! A planning goes a long way when it comes to helping children transition throughout the day through multiple types of transitions. And since not every strategy works with every child\, we need a whole pocket full of ideas (or a backpack full). So let’s get some ideas stashed away in our back pocket to pull out when we need them the most. During this session\, we will brainstorm\, practice and play some unique transition ideas that will be sure to add some zen and some flavor to your transition times.
URL:https://inspiredmindsecc.ca/workshop-events/mighty-transitions/
LOCATION:Online!\, Alberta\, Canada
CATEGORIES:online training,Transitions,webinar
ATTACH;FMTTYPE=image/png:https://inspiredmindsecc.ca/wp-content/uploads/2020/12/18.png
ORGANIZER;CN="Inspired Minds ECC":MAILTO:tina@inspiredmindsecc.ca
END:VEVENT
END:VCALENDAR