BEGIN:VCALENDAR
VERSION:2.0
PRODID:-//Inspired Minds ECC Consulting Inc. - ECPv6.15.12//NONSGML v1.0//EN
CALSCALE:GREGORIAN
METHOD:PUBLISH
X-ORIGINAL-URL:https://inspiredmindsecc.ca
X-WR-CALDESC:Events for Inspired Minds ECC Consulting Inc.
REFRESH-INTERVAL;VALUE=DURATION:PT1H
X-Robots-Tag:noindex
X-PUBLISHED-TTL:PT1H
BEGIN:VTIMEZONE
TZID:America/Edmonton
BEGIN:DAYLIGHT
TZOFFSETFROM:-0700
TZOFFSETTO:-0600
TZNAME:MDT
DTSTART:20220313T090000
END:DAYLIGHT
BEGIN:STANDARD
TZOFFSETFROM:-0600
TZOFFSETTO:-0700
TZNAME:MST
DTSTART:20221106T080000
END:STANDARD
BEGIN:DAYLIGHT
TZOFFSETFROM:-0700
TZOFFSETTO:-0600
TZNAME:MDT
DTSTART:20230312T090000
END:DAYLIGHT
BEGIN:STANDARD
TZOFFSETFROM:-0600
TZOFFSETTO:-0700
TZNAME:MST
DTSTART:20231105T080000
END:STANDARD
BEGIN:DAYLIGHT
TZOFFSETFROM:-0700
TZOFFSETTO:-0600
TZNAME:MDT
DTSTART:20240310T090000
END:DAYLIGHT
BEGIN:STANDARD
TZOFFSETFROM:-0600
TZOFFSETTO:-0700
TZNAME:MST
DTSTART:20241103T080000
END:STANDARD
END:VTIMEZONE
BEGIN:VEVENT
DTSTART;TZID=America/Edmonton:20230110T123000
DTEND;TZID=America/Edmonton:20230110T130000
DTSTAMP:20260424T163847
CREATED:20221212T223230Z
LAST-MODIFIED:20230106T220133Z
UID:10000190-1673353800-1673355600@inspiredmindsecc.ca
SUMMARY:NEW! Lunch & Learn! Strategies to Support Co-Regulation!
DESCRIPTION:NEW! Lunch & Learn! Strategies to Support Co-Regulation! \nWelcome to our NEW Lunch and Learn webinars! These are mini online community webinars that give you some effective strategies you can implement right away! Lunch and Learn webinars are only 30 minutes and are offered over the lunch hour of 12:30-1:00PM. Each month we will present a different topic that aims to enhance your knowledge and teaching practices as early childhood educators. \nJanuary: Strategies to Support Co-Regulation! \nThings to Keep in Mind: \n\nRegistration is required for all Lunch and Learn webinars.\nRegistration closes 24 hours in advance!\nThese are FREE webinars!\nThis workshop will be held online through the Zoom platform.\nYou will need access to a smartphone\, laptop\, tablet or computer with audio capabilities to join us.\nA link will be emailed to you 24 hours prior to the workshop. Please click the link 10 minutes before the workshop begins to join in.\nCertificates are not provided for our Lunch and Learn Webinars\nRecordings of our Lunch and Learn webinars are ONLY available to Inspired Minds Protectors of Play Community Members.\n\nRegister here to become a Protector of Play Community Member: https://inspiredmindsecc.ca/protectors-of-play-community/
URL:https://inspiredmindsecc.ca/workshop-events/co-regulation-strategies-for-eces/
LOCATION:Online!\, Alberta\, Canada
CATEGORIES:lunch and learn webinar
ATTACH;FMTTYPE=image/png:https://inspiredmindsecc.ca/wp-content/uploads/2022/12/Lunch-and-Learn-Webinars-2023.png
ORGANIZER;CN="Inspired Minds ECC":MAILTO:tina@inspiredmindsecc.ca
END:VEVENT
END:VCALENDAR