BEGIN:VCALENDAR
VERSION:2.0
PRODID:-//Inspired Minds ECC Consulting Inc. - ECPv6.15.12//NONSGML v1.0//EN
CALSCALE:GREGORIAN
METHOD:PUBLISH
X-ORIGINAL-URL:https://inspiredmindsecc.ca
X-WR-CALDESC:Events for Inspired Minds ECC Consulting Inc.
REFRESH-INTERVAL;VALUE=DURATION:PT1H
X-Robots-Tag:noindex
X-PUBLISHED-TTL:PT1H
BEGIN:VTIMEZONE
TZID:America/Edmonton
BEGIN:DAYLIGHT
TZOFFSETFROM:-0700
TZOFFSETTO:-0600
TZNAME:MDT
DTSTART:20190310T090000
END:DAYLIGHT
BEGIN:STANDARD
TZOFFSETFROM:-0600
TZOFFSETTO:-0700
TZNAME:MST
DTSTART:20191103T080000
END:STANDARD
BEGIN:DAYLIGHT
TZOFFSETFROM:-0700
TZOFFSETTO:-0600
TZNAME:MDT
DTSTART:20200308T090000
END:DAYLIGHT
BEGIN:STANDARD
TZOFFSETFROM:-0600
TZOFFSETTO:-0700
TZNAME:MST
DTSTART:20201101T080000
END:STANDARD
BEGIN:DAYLIGHT
TZOFFSETFROM:-0700
TZOFFSETTO:-0600
TZNAME:MDT
DTSTART:20210314T090000
END:DAYLIGHT
BEGIN:STANDARD
TZOFFSETFROM:-0600
TZOFFSETTO:-0700
TZNAME:MST
DTSTART:20211107T080000
END:STANDARD
END:VTIMEZONE
BEGIN:VEVENT
DTSTART;TZID=America/Edmonton:20200311T183000
DTEND;TZID=America/Edmonton:20200311T203000
DTSTAMP:20260422T221653
CREATED:20191127T225108Z
LAST-MODIFIED:20191231T012135Z
UID:10000215-1583951400-1583958600@inspiredmindsecc.ca
SUMMARY:DAP Trivia Time!
DESCRIPTION:DAP Trivia Time:\nUnderstanding Best Practices in Early Child Care\nAre you DAP? What is DAP? This hands-on\, full participation workshop is designed to get you involved in understanding Developmentally Appropriate Practices\, Alberta Accreditation Standards and the Alberta Flight Curriculum Framework. What exactly is DAP? How does it affect my classroom and children’s learning? Come find out the answers to these questions and much more as we discuss the cornerstones of developmentally appropriate practices and learn how to implement these strategies in the classroom. Instead of just a discussion though\, let’s follow the child’s lead and play! Get your teams ready as we transform this workshop into a game show extravaganza that makes learning fun
URL:https://inspiredmindsecc.ca/workshop-events/dap-trivia-time/
LOCATION:Spruce Grove Playschool\, 447 King St\, Spruce Grove\, Alberta\, Canada
CATEGORIES:Community Workshop,DAP-Developmentally Appropriate Practices
ATTACH;FMTTYPE=image/png:https://inspiredmindsecc.ca/wp-content/uploads/2019/11/DAP.png
END:VEVENT
END:VCALENDAR