BEGIN:VCALENDAR
VERSION:2.0
PRODID:-//Inspired Minds ECC Consulting Inc. - ECPv6.15.12//NONSGML v1.0//EN
CALSCALE:GREGORIAN
METHOD:PUBLISH
X-WR-CALNAME:Inspired Minds ECC Consulting Inc.
X-ORIGINAL-URL:https://inspiredmindsecc.ca
X-WR-CALDESC:Events for Inspired Minds ECC Consulting Inc.
REFRESH-INTERVAL;VALUE=DURATION:PT1H
X-Robots-Tag:noindex
X-PUBLISHED-TTL:PT1H
BEGIN:VTIMEZONE
TZID:America/Edmonton
BEGIN:DAYLIGHT
TZOFFSETFROM:-0700
TZOFFSETTO:-0600
TZNAME:MDT
DTSTART:20200308T090000
END:DAYLIGHT
BEGIN:STANDARD
TZOFFSETFROM:-0600
TZOFFSETTO:-0700
TZNAME:MST
DTSTART:20201101T080000
END:STANDARD
BEGIN:DAYLIGHT
TZOFFSETFROM:-0700
TZOFFSETTO:-0600
TZNAME:MDT
DTSTART:20210314T090000
END:DAYLIGHT
BEGIN:STANDARD
TZOFFSETFROM:-0600
TZOFFSETTO:-0700
TZNAME:MST
DTSTART:20211107T080000
END:STANDARD
BEGIN:DAYLIGHT
TZOFFSETFROM:-0700
TZOFFSETTO:-0600
TZNAME:MDT
DTSTART:20220313T090000
END:DAYLIGHT
BEGIN:STANDARD
TZOFFSETFROM:-0600
TZOFFSETTO:-0700
TZNAME:MST
DTSTART:20221106T080000
END:STANDARD
END:VTIMEZONE
BEGIN:VEVENT
DTSTART;TZID=America/Edmonton:20210526T190000
DTEND;TZID=America/Edmonton:20210526T210000
DTSTAMP:20260421T024039
CREATED:20210218T000205Z
LAST-MODIFIED:20210329T232506Z
UID:10000251-1622055600-1622062800@inspiredmindsecc.ca
SUMMARY:Creating Magical Spaces!
DESCRIPTION:Inspiring Early Childhood Environments\nCreating a space that promotes curiosity\, exploration\, discovery and play is not a simple task. Trends change over time…so what’s the latest and greatest in creating an environment that truly does captures the image of the child and children’s play? It’s a setting that focuses on the child\, creates a natural environment for play\, and promotes a sense of belonging\, safety and wellness. A magical environment is responsive to the children and encourages everyone to actively participate in this joyous play space. Join us as we discuss all the various ways this can happen in early childhood settings. Inspiration can come from a carefully placed potted plant\, to calming lights in a cozy corner to the how we participate and bring a sense of joy to the environment. Use your own magical touch to create a space that works for you and the children in your care. Not all spaces are the same – but each one is magical!
URL:https://inspiredmindsecc.ca/workshop-events/creating-magical-spaces-2/
LOCATION:Online!\, Alberta\, Canada
CATEGORIES:Play Spaces,webinar
ATTACH;FMTTYPE=image/png:https://inspiredmindsecc.ca/wp-content/uploads/2021/02/W20.png
ORGANIZER;CN="Inspired Minds ECC":MAILTO:tina@inspiredmindsecc.ca
END:VEVENT
END:VCALENDAR