BEGIN:VCALENDAR
VERSION:2.0
PRODID:-//Inspired Minds ECC Consulting Inc. - ECPv6.15.12//NONSGML v1.0//EN
CALSCALE:GREGORIAN
METHOD:PUBLISH
X-WR-CALNAME:Inspired Minds ECC Consulting Inc.
X-ORIGINAL-URL:https://inspiredmindsecc.ca
X-WR-CALDESC:Events for Inspired Minds ECC Consulting Inc.
REFRESH-INTERVAL;VALUE=DURATION:PT1H
X-Robots-Tag:noindex
X-PUBLISHED-TTL:PT1H
BEGIN:VTIMEZONE
TZID:America/Edmonton
BEGIN:DAYLIGHT
TZOFFSETFROM:-0700
TZOFFSETTO:-0600
TZNAME:MDT
DTSTART:20200308T090000
END:DAYLIGHT
BEGIN:STANDARD
TZOFFSETFROM:-0600
TZOFFSETTO:-0700
TZNAME:MST
DTSTART:20201101T080000
END:STANDARD
BEGIN:DAYLIGHT
TZOFFSETFROM:-0700
TZOFFSETTO:-0600
TZNAME:MDT
DTSTART:20210314T090000
END:DAYLIGHT
BEGIN:STANDARD
TZOFFSETFROM:-0600
TZOFFSETTO:-0700
TZNAME:MST
DTSTART:20211107T080000
END:STANDARD
BEGIN:DAYLIGHT
TZOFFSETFROM:-0700
TZOFFSETTO:-0600
TZNAME:MDT
DTSTART:20220313T090000
END:DAYLIGHT
BEGIN:STANDARD
TZOFFSETFROM:-0600
TZOFFSETTO:-0700
TZNAME:MST
DTSTART:20221106T080000
END:STANDARD
END:VTIMEZONE
BEGIN:VEVENT
DTSTART;TZID=America/Edmonton:20210525T190000
DTEND;TZID=America/Edmonton:20210525T210000
DTSTAMP:20260421T025949
CREATED:20210217T235757Z
LAST-MODIFIED:20210514T171257Z
UID:10000249-1621969200-1621976400@inspiredmindsecc.ca
SUMMARY:Finding Your Wings!
DESCRIPTION:Transitioning to the Alberta Curriculum Framework\nAre you looking to learn more about the Alberta Curriculum Framework? Whether you’ve gone through the training or not\, it can still be a little overwhelming switching to this approach to learning. The early learning curriculum framework not only introduces some new language to use (and to share with families)\, but also aims to change our mindset of how we view the image of the child and our own teaching practices. As co-learners in this journey of play with the children\, we are able to build our connections with the children\, their families and our community and to make meaning out of children’s play experiences. In this session\, we will discuss some core foundations of the Alberta curriculum framework\, how to take comfort steps in implementation and how to extend your practices to provide a responsive and caring environment for young children. Whether you are just starting to spread your wings\, or you have already tried a few flights\, let’s expand our wings so we can fly further and discover new possibilities together!
URL:https://inspiredmindsecc.ca/workshop-events/finding-your-wings-out-of-school-care-edition/
LOCATION:Online!\, Alberta\, Canada
CATEGORIES:Curriculum Planning,FLIGHT,online training,webinar
ATTACH;FMTTYPE=image/png:https://inspiredmindsecc.ca/wp-content/uploads/2021/02/Copy-2-of-2021-webinars-7.png
ORGANIZER;CN="Inspired Minds ECC":MAILTO:tina@inspiredmindsecc.ca
END:VEVENT
END:VCALENDAR