BEGIN:VCALENDAR
VERSION:2.0
PRODID:-//Inspired Minds ECC Consulting Inc. - ECPv6.15.12//NONSGML v1.0//EN
CALSCALE:GREGORIAN
METHOD:PUBLISH
X-WR-CALNAME:Inspired Minds ECC Consulting Inc.
X-ORIGINAL-URL:https://inspiredmindsecc.ca
X-WR-CALDESC:Events for Inspired Minds ECC Consulting Inc.
REFRESH-INTERVAL;VALUE=DURATION:PT1H
X-Robots-Tag:noindex
X-PUBLISHED-TTL:PT1H
BEGIN:VTIMEZONE
TZID:America/Edmonton
BEGIN:DAYLIGHT
TZOFFSETFROM:-0700
TZOFFSETTO:-0600
TZNAME:MDT
DTSTART:20200308T090000
END:DAYLIGHT
BEGIN:STANDARD
TZOFFSETFROM:-0600
TZOFFSETTO:-0700
TZNAME:MST
DTSTART:20201101T080000
END:STANDARD
BEGIN:DAYLIGHT
TZOFFSETFROM:-0700
TZOFFSETTO:-0600
TZNAME:MDT
DTSTART:20210314T090000
END:DAYLIGHT
BEGIN:STANDARD
TZOFFSETFROM:-0600
TZOFFSETTO:-0700
TZNAME:MST
DTSTART:20211107T080000
END:STANDARD
BEGIN:DAYLIGHT
TZOFFSETFROM:-0700
TZOFFSETTO:-0600
TZNAME:MDT
DTSTART:20220313T090000
END:DAYLIGHT
BEGIN:STANDARD
TZOFFSETFROM:-0600
TZOFFSETTO:-0700
TZNAME:MST
DTSTART:20221106T080000
END:STANDARD
END:VTIMEZONE
BEGIN:VEVENT
DTSTART;TZID=America/Edmonton:20210311T190000
DTEND;TZID=America/Edmonton:20210311T210000
DTSTAMP:20260421T041341
CREATED:20201221T051834Z
LAST-MODIFIED:20201221T220413Z
UID:10000147-1615489200-1615496400@inspiredmindsecc.ca
SUMMARY:Observing Play with Intention
DESCRIPTION:Enriching Your Emergent Curriculum Approach\nEver take the time to sit back and simply observe children playing? How they engage with each other\, how they interact with materials and the conversations they have\, even by themselves. The curiosity they show when they are exploring something new. The expressions of satisfaction when they are deep in thought in play and when they reach a personal goal. These observations of play tell us so much about the children’s perspective and learning journey\, that we need to write this down and capture it! There are so many discoveries and ‘ah-ha’ moments throughout the day that it’s sometimes difficult for us to figure out what to write down though. So let’s learn together as we discuss strategies of intentional observations and practice how to conduct intentional
URL:https://inspiredmindsecc.ca/workshop-events/observing-play-with-intention/
LOCATION:Online!\, Alberta\, Canada
CATEGORIES:Emergent Cuurriculum,online training,Planning,webinar
ATTACH;FMTTYPE=image/png:https://inspiredmindsecc.ca/wp-content/uploads/2020/12/33.png
ORGANIZER;CN="Inspired Minds ECC":MAILTO:tina@inspiredmindsecc.ca
END:VEVENT
END:VCALENDAR