BEGIN:VCALENDAR
VERSION:2.0
PRODID:-//Inspired Minds ECC Consulting Inc. - ECPv6.15.12//NONSGML v1.0//EN
CALSCALE:GREGORIAN
METHOD:PUBLISH
X-ORIGINAL-URL:https://inspiredmindsecc.ca
X-WR-CALDESC:Events for Inspired Minds ECC Consulting Inc.
REFRESH-INTERVAL;VALUE=DURATION:PT1H
X-Robots-Tag:noindex
X-PUBLISHED-TTL:PT1H
BEGIN:VTIMEZONE
TZID:America/Edmonton
BEGIN:DAYLIGHT
TZOFFSETFROM:-0700
TZOFFSETTO:-0600
TZNAME:MDT
DTSTART:20200308T090000
END:DAYLIGHT
BEGIN:STANDARD
TZOFFSETFROM:-0600
TZOFFSETTO:-0700
TZNAME:MST
DTSTART:20201101T080000
END:STANDARD
BEGIN:DAYLIGHT
TZOFFSETFROM:-0700
TZOFFSETTO:-0600
TZNAME:MDT
DTSTART:20210314T090000
END:DAYLIGHT
BEGIN:STANDARD
TZOFFSETFROM:-0600
TZOFFSETTO:-0700
TZNAME:MST
DTSTART:20211107T080000
END:STANDARD
BEGIN:DAYLIGHT
TZOFFSETFROM:-0700
TZOFFSETTO:-0600
TZNAME:MDT
DTSTART:20220313T090000
END:DAYLIGHT
BEGIN:STANDARD
TZOFFSETFROM:-0600
TZOFFSETTO:-0700
TZNAME:MST
DTSTART:20221106T080000
END:STANDARD
END:VTIMEZONE
BEGIN:VEVENT
DTSTART;TZID=America/Edmonton:20210224T190000
DTEND;TZID=America/Edmonton:20210224T210000
DTSTAMP:20260421T054553
CREATED:20201221T040048Z
LAST-MODIFIED:20201221T220615Z
UID:10000144-1614193200-1614200400@inspiredmindsecc.ca
SUMMARY:Wonderful World of STEM! OSC Training!
DESCRIPTION:Exploration and Discovery Through STEM\, STEAM & STREAM\nSTEM – Science\, Technology\, engineering and Math; STEAM – Science\, Technology\, Engineering\, Arts and Math; STREAM – Science\, Technology\, Reading\, Engineering\, Arts and Math. No matter which acronym you use\, STEM activities are bound to be a hit with children as they encourage problem solving\, exploration\, creativity\, discovery\, trial and error and collaboration! Children are naturally curious and want to try things out to see what happens. So\, it’s up to us to provide these rich\, playful learning opportunities to build on this natural instinct to explore and learn. From robotics\, to demolition and discovery to coding and technology. Let them take the reigns on these activities as we take a step back and move away from teacher demonstrations to child led explorations! \nThis session focuses on facilitating play with school age children in out of school care programs.
URL:https://inspiredmindsecc.ca/workshop-events/wonderful-world-of-stem-osc-training/
LOCATION:Online!\, Alberta\, Canada
CATEGORIES:online training,STEM,webinar
ATTACH;FMTTYPE=image/png:https://inspiredmindsecc.ca/wp-content/uploads/2020/12/24.png
ORGANIZER;CN="Inspired Minds ECC":MAILTO:tina@inspiredmindsecc.ca
END:VEVENT
END:VCALENDAR