BEGIN:VCALENDAR
VERSION:2.0
PRODID:-//Inspired Minds ECC Consulting Inc. - ECPv6.15.12//NONSGML v1.0//EN
CALSCALE:GREGORIAN
METHOD:PUBLISH
X-ORIGINAL-URL:https://inspiredmindsecc.ca
X-WR-CALDESC:Events for Inspired Minds ECC Consulting Inc.
REFRESH-INTERVAL;VALUE=DURATION:PT1H
X-Robots-Tag:noindex
X-PUBLISHED-TTL:PT1H
BEGIN:VTIMEZONE
TZID:America/Edmonton
BEGIN:DAYLIGHT
TZOFFSETFROM:-0700
TZOFFSETTO:-0600
TZNAME:MDT
DTSTART:20190310T090000
END:DAYLIGHT
BEGIN:STANDARD
TZOFFSETFROM:-0600
TZOFFSETTO:-0700
TZNAME:MST
DTSTART:20191103T080000
END:STANDARD
BEGIN:DAYLIGHT
TZOFFSETFROM:-0700
TZOFFSETTO:-0600
TZNAME:MDT
DTSTART:20200308T090000
END:DAYLIGHT
BEGIN:STANDARD
TZOFFSETFROM:-0600
TZOFFSETTO:-0700
TZNAME:MST
DTSTART:20201101T080000
END:STANDARD
BEGIN:DAYLIGHT
TZOFFSETFROM:-0700
TZOFFSETTO:-0600
TZNAME:MDT
DTSTART:20210314T090000
END:DAYLIGHT
BEGIN:STANDARD
TZOFFSETFROM:-0600
TZOFFSETTO:-0700
TZNAME:MST
DTSTART:20211107T080000
END:STANDARD
END:VTIMEZONE
BEGIN:VEVENT
DTSTART;TZID=America/Edmonton:20201126T190000
DTEND;TZID=America/Edmonton:20201126T203000
DTSTAMP:20260421T123333
CREATED:20191128T181903Z
LAST-MODIFIED:20200825T030033Z
UID:10000232-1606417200-1606422600@inspiredmindsecc.ca
SUMMARY:Online Training ~ Reflections of Playful Learning (Emergent Curriculum)
DESCRIPTION:Reflections of Playful Learning ~ Enriching your Emergent Curriculum Approach\n\nAfter a full day of play\, everyone is exhausted! Oh\, but what fun we had! What learning transpired! It was a success! Before we forget of all the adventures and discoveries\, it’s time to reflect. Reflection is a main factor when enriching your emergent curriculum approach. Reflection has many facets\, and looks different for each educator and each group of children. In this session\, we will look at the many different ways to reflect on playful learning; from documentation boards and learning stories to brainstorming for future experiences and revamping our environment. Personal reflection\, team reflection and reflection with the children are all elements of this process. It’s time to capture the moments of play and joy in early childhood!
URL:https://inspiredmindsecc.ca/workshop-events/tinkering-and-toying-with-stem-4/
LOCATION:Online!\, Alberta\, Canada
ATTACH;FMTTYPE=image/png:https://inspiredmindsecc.ca/wp-content/uploads/2020/08/7.png
ORGANIZER;CN="Inspired Minds ECC":MAILTO:tina@inspiredmindsecc.ca
END:VEVENT
END:VCALENDAR