BEGIN:VCALENDAR
VERSION:2.0
PRODID:-//Inspired Minds ECC Consulting Inc. - ECPv6.15.12//NONSGML v1.0//EN
CALSCALE:GREGORIAN
METHOD:PUBLISH
X-WR-CALNAME:Inspired Minds ECC Consulting Inc.
X-ORIGINAL-URL:https://inspiredmindsecc.ca
X-WR-CALDESC:Events for Inspired Minds ECC Consulting Inc.
REFRESH-INTERVAL;VALUE=DURATION:PT1H
X-Robots-Tag:noindex
X-PUBLISHED-TTL:PT1H
BEGIN:VTIMEZONE
TZID:America/Edmonton
BEGIN:DAYLIGHT
TZOFFSETFROM:-0700
TZOFFSETTO:-0600
TZNAME:MDT
DTSTART:20190310T090000
END:DAYLIGHT
BEGIN:STANDARD
TZOFFSETFROM:-0600
TZOFFSETTO:-0700
TZNAME:MST
DTSTART:20191103T080000
END:STANDARD
BEGIN:DAYLIGHT
TZOFFSETFROM:-0700
TZOFFSETTO:-0600
TZNAME:MDT
DTSTART:20200308T090000
END:DAYLIGHT
BEGIN:STANDARD
TZOFFSETFROM:-0600
TZOFFSETTO:-0700
TZNAME:MST
DTSTART:20201101T080000
END:STANDARD
BEGIN:DAYLIGHT
TZOFFSETFROM:-0700
TZOFFSETTO:-0600
TZNAME:MDT
DTSTART:20210314T090000
END:DAYLIGHT
BEGIN:STANDARD
TZOFFSETFROM:-0600
TZOFFSETTO:-0700
TZNAME:MST
DTSTART:20211107T080000
END:STANDARD
END:VTIMEZONE
BEGIN:VEVENT
DTSTART;TZID=America/Edmonton:20201014T190000
DTEND;TZID=America/Edmonton:20201014T203000
DTSTAMP:20260421T153741
CREATED:20191128T180246Z
LAST-MODIFIED:20200825T000821Z
UID:10000230-1602702000-1602707400@inspiredmindsecc.ca
SUMMARY:Online Training ~ The Daily Struggle (Conflict Resolution)
DESCRIPTION:The Daily Struggle: Facilitating Conflict Resolution\n\nConflict is something that we all experience on a daily basis. We all have our own perceptions and experiences and opinions\, and with children…these opinions can get very vocal! It’s up to us\, the adults in their lives\, to facilitate how to resolve conflicts constructively so that our children can grow into success problem solvers and engage in healthy conflicts! It’s not an overnight process\, but with positive supports\, children will start to understand different perspectives and understand how to resolve conflicts in a healthy manner. Let’s help them on this journey of success and understanding! \nNote: This session is for adults working with children ages 3 years+ \n 
URL:https://inspiredmindsecc.ca/workshop-events/where-the-wild-things-are-3/
LOCATION:Online!\, Alberta\, Canada
ATTACH;FMTTYPE=image/png:https://inspiredmindsecc.ca/wp-content/uploads/2020/08/1-1.png
ORGANIZER;CN="Inspired Minds ECC":MAILTO:tina@inspiredmindsecc.ca
END:VEVENT
END:VCALENDAR