BEGIN:VCALENDAR
VERSION:2.0
PRODID:-//Inspired Minds ECC Consulting Inc. - ECPv6.15.12//NONSGML v1.0//EN
CALSCALE:GREGORIAN
METHOD:PUBLISH
X-ORIGINAL-URL:https://inspiredmindsecc.ca
X-WR-CALDESC:Events for Inspired Minds ECC Consulting Inc.
REFRESH-INTERVAL;VALUE=DURATION:PT1H
X-Robots-Tag:noindex
X-PUBLISHED-TTL:PT1H
BEGIN:VTIMEZONE
TZID:America/Edmonton
BEGIN:DAYLIGHT
TZOFFSETFROM:-0700
TZOFFSETTO:-0600
TZNAME:MDT
DTSTART:20190310T090000
END:DAYLIGHT
BEGIN:STANDARD
TZOFFSETFROM:-0600
TZOFFSETTO:-0700
TZNAME:MST
DTSTART:20191103T080000
END:STANDARD
BEGIN:DAYLIGHT
TZOFFSETFROM:-0700
TZOFFSETTO:-0600
TZNAME:MDT
DTSTART:20200308T090000
END:DAYLIGHT
BEGIN:STANDARD
TZOFFSETFROM:-0600
TZOFFSETTO:-0700
TZNAME:MST
DTSTART:20201101T080000
END:STANDARD
BEGIN:DAYLIGHT
TZOFFSETFROM:-0700
TZOFFSETTO:-0600
TZNAME:MDT
DTSTART:20210314T090000
END:DAYLIGHT
BEGIN:STANDARD
TZOFFSETFROM:-0600
TZOFFSETTO:-0700
TZNAME:MST
DTSTART:20211107T080000
END:STANDARD
END:VTIMEZONE
BEGIN:VEVENT
DTSTART;TZID=America/Edmonton:20201006T190000
DTEND;TZID=America/Edmonton:20201006T203000
DTSTAMP:20260421T174220
CREATED:20191128T004752Z
LAST-MODIFIED:20200825T000732Z
UID:10000227-1602010800-1602016200@inspiredmindsecc.ca
SUMMARY:Online Training ~ From Crying to Smiling
DESCRIPTION:From Crying to Smiling: Understanding Challenging Behaviors\n\nEver wonder WHY some children react in ways we just don’t understand? The screaming\, biting and hitting came from no where! When a seemingly small situation throws them right into a major meltdown. Feeling like you’re at a standstill of what to do next? Well\, then this webinar is for you! Join us as we discuss the why’s behind children’s difficult and challenging behaviors and how we can support them during these difficult moments. Learn what happens in a child’s brain when the are dysregulated and take away some tools that can help you bring them to a responsive state of mind. It’s not easy sometimes…but YOU are the one who can make a difference. YOU can help them move from reacting to responding by making meaningful connections and adding some great activities and strategies that everyone can use!
URL:https://inspiredmindsecc.ca/workshop-events/a-place-to-play-3/
LOCATION:Online!\, Alberta\, Canada
ATTACH;FMTTYPE=image/png:https://inspiredmindsecc.ca/wp-content/uploads/2020/05/understanding-challenign-behaviours.png
ORGANIZER;CN="Inspired Minds ECC":MAILTO:tina@inspiredmindsecc.ca
END:VEVENT
END:VCALENDAR