BEGIN:VCALENDAR
VERSION:2.0
PRODID:-//Inspired Minds ECC Consulting Inc. - ECPv6.15.12//NONSGML v1.0//EN
CALSCALE:GREGORIAN
METHOD:PUBLISH
X-WR-CALNAME:Inspired Minds ECC Consulting Inc.
X-ORIGINAL-URL:https://inspiredmindsecc.ca
X-WR-CALDESC:Events for Inspired Minds ECC Consulting Inc.
REFRESH-INTERVAL;VALUE=DURATION:PT1H
X-Robots-Tag:noindex
X-PUBLISHED-TTL:PT1H
BEGIN:VTIMEZONE
TZID:America/Edmonton
BEGIN:DAYLIGHT
TZOFFSETFROM:-0700
TZOFFSETTO:-0600
TZNAME:MDT
DTSTART:20190310T090000
END:DAYLIGHT
BEGIN:STANDARD
TZOFFSETFROM:-0600
TZOFFSETTO:-0700
TZNAME:MST
DTSTART:20191103T080000
END:STANDARD
BEGIN:DAYLIGHT
TZOFFSETFROM:-0700
TZOFFSETTO:-0600
TZNAME:MDT
DTSTART:20200308T090000
END:DAYLIGHT
BEGIN:STANDARD
TZOFFSETFROM:-0600
TZOFFSETTO:-0700
TZNAME:MST
DTSTART:20201101T080000
END:STANDARD
BEGIN:DAYLIGHT
TZOFFSETFROM:-0700
TZOFFSETTO:-0600
TZNAME:MDT
DTSTART:20210314T090000
END:DAYLIGHT
BEGIN:STANDARD
TZOFFSETFROM:-0600
TZOFFSETTO:-0700
TZNAME:MST
DTSTART:20211107T080000
END:STANDARD
END:VTIMEZONE
BEGIN:VEVENT
DTSTART;TZID=America/Edmonton:20200304T183000
DTEND;TZID=America/Edmonton:20200304T203000
DTSTAMP:20260422T154642
CREATED:20191127T202012Z
LAST-MODIFIED:20191202T200446Z
UID:10000211-1583346600-1583353800@inspiredmindsecc.ca
SUMMARY:A Place to Play!
DESCRIPTION:Creating Inspiring Play Spaces for Young Learners\nLet me play!!! Children need room to run\, climb\, jump\, get messy\, read books\, paint masterpieces and build worlds of wonder…how can we fit all of it into one place?! This workshop is designed to spur the imagination of how to effectively transform your everyday classroom into a magical play space for children to have fun and learn. Designing creative floor plans and getting some practical tips and strategies are just some of the activities you will be involved in at this workshop. This workshop will be sure to help you create an inspiring environment where you and your children will love to explore!
URL:https://inspiredmindsecc.ca/workshop-events/a-place-to-play-2/
LOCATION:Global Aware Kids Care\, 109\, 1103 95 Street SW\, Edmonton\, Alberta\, T6X 0P8\, Canada
CATEGORIES:Community Workshop,Play Spaces
ATTACH;FMTTYPE=image/png:https://inspiredmindsecc.ca/wp-content/uploads/2019/08/play-spaces-website.png
END:VEVENT
END:VCALENDAR