BEGIN:VCALENDAR
VERSION:2.0
PRODID:-//Inspired Minds ECC Consulting Inc. - ECPv6.15.12//NONSGML v1.0//EN
CALSCALE:GREGORIAN
METHOD:PUBLISH
X-WR-CALNAME:Inspired Minds ECC Consulting Inc.
X-ORIGINAL-URL:https://inspiredmindsecc.ca
X-WR-CALDESC:Events for Inspired Minds ECC Consulting Inc.
REFRESH-INTERVAL;VALUE=DURATION:PT1H
X-Robots-Tag:noindex
X-PUBLISHED-TTL:PT1H
BEGIN:VTIMEZONE
TZID:America/Edmonton
BEGIN:DAYLIGHT
TZOFFSETFROM:-0700
TZOFFSETTO:-0600
TZNAME:MDT
DTSTART:20180311T090000
END:DAYLIGHT
BEGIN:STANDARD
TZOFFSETFROM:-0600
TZOFFSETTO:-0700
TZNAME:MST
DTSTART:20181104T080000
END:STANDARD
BEGIN:DAYLIGHT
TZOFFSETFROM:-0700
TZOFFSETTO:-0600
TZNAME:MDT
DTSTART:20190310T090000
END:DAYLIGHT
BEGIN:STANDARD
TZOFFSETFROM:-0600
TZOFFSETTO:-0700
TZNAME:MST
DTSTART:20191103T080000
END:STANDARD
BEGIN:DAYLIGHT
TZOFFSETFROM:-0700
TZOFFSETTO:-0600
TZNAME:MDT
DTSTART:20200308T090000
END:DAYLIGHT
BEGIN:STANDARD
TZOFFSETFROM:-0600
TZOFFSETTO:-0700
TZNAME:MST
DTSTART:20201101T080000
END:STANDARD
END:VTIMEZONE
BEGIN:VEVENT
DTSTART;TZID=America/Edmonton:20191212T183000
DTEND;TZID=America/Edmonton:20191212T203000
DTSTAMP:20260423T031517
CREATED:20191126T235858Z
LAST-MODIFIED:20191202T195910Z
UID:10000204-1576175400-1576182600@inspiredmindsecc.ca
SUMMARY:Where the Wild Things Are!
DESCRIPTION:Providing Effective Supervision\nImplementing effective active supervision is vital to providing a safe environment for children to explore and learn. By identifying the key principles of effective active supervision and learning some active supervision strategies\, your team will be able to minimize accidents and incidents and be able to focus on the children’s play experiences. Participants will learn some tips and tricks to ensuring that they are actively supervising their classroom and that children’s play is fun\, safe and full of discoveries and adventures.
URL:https://inspiredmindsecc.ca/workshop-events/where-the-wild-things-are/
LOCATION:Richard Secord After School Care @ Enjoy Life Church\, 3935 114 St NW\, Edmonton\, Alberta\, T6J 1M3\, Canada
CATEGORIES:Community Workshop,Supervision
ATTACH;FMTTYPE=image/png:https://inspiredmindsecc.ca/wp-content/uploads/2019/07/supervision-website.png
END:VEVENT
END:VCALENDAR