BEGIN:VCALENDAR
VERSION:2.0
PRODID:-//Inspired Minds ECC Consulting Inc. - ECPv6.15.12//NONSGML v1.0//EN
CALSCALE:GREGORIAN
METHOD:PUBLISH
X-ORIGINAL-URL:https://inspiredmindsecc.ca
X-WR-CALDESC:Events for Inspired Minds ECC Consulting Inc.
REFRESH-INTERVAL;VALUE=DURATION:PT1H
X-Robots-Tag:noindex
X-PUBLISHED-TTL:PT1H
BEGIN:VTIMEZONE
TZID:America/Edmonton
BEGIN:DAYLIGHT
TZOFFSETFROM:-0700
TZOFFSETTO:-0600
TZNAME:MDT
DTSTART:20180311T090000
END:DAYLIGHT
BEGIN:STANDARD
TZOFFSETFROM:-0600
TZOFFSETTO:-0700
TZNAME:MST
DTSTART:20181104T080000
END:STANDARD
BEGIN:DAYLIGHT
TZOFFSETFROM:-0700
TZOFFSETTO:-0600
TZNAME:MDT
DTSTART:20190310T090000
END:DAYLIGHT
BEGIN:STANDARD
TZOFFSETFROM:-0600
TZOFFSETTO:-0700
TZNAME:MST
DTSTART:20191103T080000
END:STANDARD
BEGIN:DAYLIGHT
TZOFFSETFROM:-0700
TZOFFSETTO:-0600
TZNAME:MDT
DTSTART:20200308T090000
END:DAYLIGHT
BEGIN:STANDARD
TZOFFSETFROM:-0600
TZOFFSETTO:-0700
TZNAME:MST
DTSTART:20201101T080000
END:STANDARD
END:VTIMEZONE
BEGIN:VEVENT
DTSTART;TZID=America/Edmonton:20191127T183000
DTEND;TZID=America/Edmonton:20191127T203000
DTSTAMP:20260423T033323
CREATED:20191126T233630Z
LAST-MODIFIED:20191127T051737Z
UID:10000196-1574879400-1574886600@inspiredmindsecc.ca
SUMMARY:A Place to Play
DESCRIPTION:A Place to Play\nCreating Inspiring Play Spaces for Young Learners\nLet me play!!! Children need room to run\, climb\, jump\, get messy\, read books\, paint masterpieces and build worlds of wonder…how can we fit all of it into one place?! This workshop is designed to spur the imagination of how to effectively transform your everyday classroom into a magical play space for children to have fun and learn. From vision boards to floor plans to practical tips and real life practice…this workshop will be sure to create a world where you and your children will love to explore!
URL:https://inspiredmindsecc.ca/workshop-events/a-place-to-play/
LOCATION:Kids ‘R’ Us Child Care\, 12140 103 St NW\, Edmonton\, Alberta\, T5G 2J9\, Canada
CATEGORIES:Community Workshop,Play Spaces
ATTACH;FMTTYPE=image/png:https://inspiredmindsecc.ca/wp-content/uploads/2019/08/play-spaces-website.png
END:VEVENT
END:VCALENDAR